BEGIN:VCALENDAR
PRODID:-//dvv-bw.de//dvv.Portalplattform//DE
VERSION:2.0
METHOD:PUBLISH
BEGIN:VEVENT
DTSTART:20210610T220000Z
DTEND:20210610T220000Z
DTSTAMP:20210610T220000Z
UID:523224490657-523224490309-1623362400000
SUMMARY:Abfuhr Gelber Sack
DESCRIPTION:Abfuhr Gelber Sack
CLASS:PUBLIC
X-ALT-DESC;FMTTYPE=text/html:Abfuhr Gelber Sack
END:VEVENT
END:VCALENDAR
