BEGIN:VCALENDAR
PRODID:-//dvv-bw.de//dvv.Portalplattform//DE
VERSION:2.0
METHOD:PUBLISH
BEGIN:VEVENT
DTSTART:20210624T220000Z
DTEND:20210624T220000Z
DTSTAMP:20210624T220000Z
UID:523224490660-523224490312-1624572000000
SUMMARY:Abfuhr Gelber Sack
DESCRIPTION:Abfuhr Gelber Sack
CLASS:PUBLIC
X-ALT-DESC;FMTTYPE=text/html:Abfuhr Gelber Sack
END:VEVENT
END:VCALENDAR
