BEGIN:VCALENDAR
PRODID:-//dvv-bw.de//dvv.Portalplattform//DE
VERSION:2.0
METHOD:PUBLISH
BEGIN:VEVENT
DTSTART:20210611T220000Z
DTEND:20210611T220000Z
DTSTAMP:20210611T220000Z
UID:523224490658-523224490310-1623448800000
SUMMARY:Altpapiersammlung
DESCRIPTION:Altpapiersammlung
CLASS:PUBLIC
X-ALT-DESC;FMTTYPE=text/html:Altpapiersammlung
END:VEVENT
END:VCALENDAR
