BEGIN:VCALENDAR
PRODID:-//dvv-bw.de//dvv.Portalplattform//DE
VERSION:2.0
METHOD:PUBLISH
BEGIN:VEVENT
DTSTART:20210623T123000Z
DTEND:20210623T173000Z
DTSTAMP:20210623T123000Z
UID:523224485426-523224485326-1624399200000
SUMMARY:Blutspendeaktion
LOCATION:Staig (Gemeinschaftsschule)\, Jahnstraße 15\, 89195 Staig
DESCRIPTION:Blutspendeaktion
CLASS:PUBLIC
X-ALT-DESC;FMTTYPE=text/html:Blutspendeaktion
END:VEVENT
END:VCALENDAR
