BEGIN:VCALENDAR
PRODID:-//dvv-bw.de//dvv.Portalplattform//DE
VERSION:2.0
METHOD:PUBLISH
BEGIN:VEVENT
DTSTART:20210612T090000Z
DTEND:20210612T103000Z
DTSTAMP:20210612T090000Z
UID:523226163152-523226137101-1623448800000
SUMMARY:Corona-Testbus
LOCATION:Parkplatz "Sportgelände Illerrieden"\, Wangener Straße 15\, 89186 Illerrieden
DESCRIPTION:Personalausweis oder Reisepass mitbringen und einfach vorbei kommen und im Bus registrieren – oder – um Wartezeiten zu vermeiden: Vorab online registrieren. Die Registrierung kann für die Tests in Illerrieden über den QR-CODE (sh. Plakat\, Link oben unterhalb der Karte) oder über die Homepage von Huber Health Care https://portal.huber-health-care.com erfolgen. Nach erfolgter Registrierung wird ein persönlicher QR Code übersandt\, der bei der Anmeldung im Testbus vorgezeigt werden soll. Neben dem QR-Code muss auch ein Ausweisdokument mitgebracht werden.
CLASS:PUBLIC
X-ALT-DESC;FMTTYPE=text/html:Personalausweis oder Reisepass mitbringen und einfach vorbei kommen und im Bus registrieren &ndash; oder &ndash; um Wartezeiten zu vermeiden: Vorab online registrieren. Die Registrierung kann für die Tests in Illerrieden über den QR-CODE (sh. Plakat\, Link oben unterhalb der Karte) oder über die Homepage von Huber Health Care https://portal.huber-health-care.com erfolgen. Nach erfolgter Registrierung wird ein persönlicher QR Code übersandt\, der bei der Anmeldung im Testbus vorgezeigt werden soll. Neben dem QR-Code muss auch ein Ausweisdokument mitgebracht werden.
END:VEVENT
END:VCALENDAR
