BEGIN:VCALENDAR
PRODID:-//dvv-bw.de//dvv.Portalplattform//DE
VERSION:2.0
METHOD:PUBLISH
BEGIN:VEVENT
DTSTART:20210618T220000Z
DTEND:20210618T220000Z
DTSTAMP:20210618T220000Z
UID:523224485424-523224485324-1624053600000
SUMMARY:Firmung
LOCATION:Heilig-Kreuz-Kirche\, Pfarrer-Braig-Straße 6\, 89186 Illerrieden
DESCRIPTION:Firmung
CLASS:PUBLIC
X-ALT-DESC;FMTTYPE=text/html:Firmung
END:VEVENT
END:VCALENDAR
