BEGIN:VCALENDAR
PRODID:-//dvv-bw.de//dvv.Portalplattform//DE
VERSION:2.0
METHOD:PUBLISH
BEGIN:VEVENT
DTSTART:20210616T173000Z
DTEND:20210616T193000Z
DTSTAMP:20210616T173000Z
UID:523226295200-523224918053-1623794400000
SUMMARY:Gemeinderatssitzung
LOCATION:Illertalhalle\, Gartenstraße 60\, 89186 Illerrieden
DESCRIPTION:Am Mittwoch\, 16.06.2021 findet um 19:30 Uhr in der Illertalhalle Illerrieden\, Gartenstraße 60\, Zugang: Haupteingang (Foyer)\, eine öffentliche Sitzung des Gemeinderats statt. \nDie Sitzung findet nach den Regelungen der geltenden Corona-Verordnung statt.\nAnmeldung für Zuhörerinnen und Zuhörer erforderlich - siehe unten.\n \nT a g e s o r d n u n g : \nÖffentlich \n1. Bekanntgabe der Beratungsniederschrift \n2. Bekanntgabe von Beschlüssen aus nichtöffentlicher Sitzung \n3. Ergänzungssatzung / Einbeziehungssatzung „Dorndorf Mitte / Bachstraße“ – Satzungsbeschluss \n4. Stellungnahme zu Baugesuchen\na. Bauort: Im Tal 31\, Gemarkung Wangen\, Flst. Nr. 229/27 Bauvorhaben: Neubau Betriebsgebäude mit Lagerhalle\, Büro und Betriebswohnung - Antrag auf Baugenehmigung - \nb. Bauort: Vorderer Berg 18\, Illerrieden\, Flst. Nr. 596/5 Bauvorhaben: Nachgenehmigung Holzlege und Geräteschuppen - Antrag auf Baugenehmigung - \nc. Bauort: Im Frauengarten 31\, Illerrieden\, Flst. Nr. 1003 Bauvorhaben: Nutzungsänderung – Gewerbliche Nutzung eines Wohnraumes im EG als Hundesalon (Hundefriseurin) - Antrag auf Baugenehmigung - \nd. Bauort: Außenbereich\, Gemarkung Dorndorf\, Flst. Nr. 665 Bauvorhaben: Neubau einer landwirtschaftlichen Mehrzweckhalle - Antrag auf Baugenehmigung - \ne. Bauort: Außenbereich\, Gemarkung Dorndorf\, Flst. Nr. 665 Bauvorhaben: Güllegrube\, geänderte Ausführung - Tektur - \n5. Neufassung der Vereinbarung zwischen dem Gemeindeverwaltungsverband Dietenheim (GVV) und der Stadt Dietenheim – Ermächtigung der Verbandsräte der Gemeinde Illerrieden \n6. Zustimmung zur Beteiligung der gemeinsamen Kommunalanstalt Komm.Pakt.Net an der OEW Breitband GmbH \n7. Sonstige Bekanntgaben und Verschiedenes \nDer Gemeinderat tagt im Anschluss außerdem nichtöffentlich. \nJens Kaiser\, Bürgermeister\n \nAnmeldung für Zuhörer erforderlich! Zuhörer bitten wir\, sich bis spätestens Mittwoch\, 16.06.2021\, 12 Uhr anzumelden – telefonisch unter: 0 73 06 / 96 96 0 oder per E-Mail an: info@illerrieden.de . \nPersonen\, die in Kontakt zu einer mit dem Coronavirus infizierten Person stehen oder standen\, wenn seit dem letzten Kontakt noch nicht 14 Tage vergangen sind und Personen\, die typische Symptome einer Infektion mit dem Coronavirus\, namentlich Fieber\, trockener Husten\, Störung des Geschmacks- oder Geruchssinns\, aufweisen\, kann leider kein Zutritt gewährt werden. \nMaskenpflicht! Der Zutritt zum Sitzungsraum ist – auch für Zuhörer – nur mit einer medizinischen Maske oder einem Atemschutz\, welcher die Anforderungen der Standards FFP2 (DIN EN 149:2001)\, KN95\, N95 oder eines vergleichbaren Standards erfüllt\, möglich.
CLASS:PUBLIC
X-ALT-DESC;FMTTYPE=text/html:Am Mittwoch\, 16.06.2021 findet um 19:30 Uhr in der Illertalhalle Illerrieden\, Gartenstraße 60\, Zugang: Haupteingang (Foyer)\, eine öffentliche Sitzung des Gemeinderats statt. <br>Die Sitzung findet nach den Regelungen der geltenden Corona-Verordnung statt.<br>Anmeldung für Zuhörerinnen und Zuhörer erforderlich - siehe unten.<br> <br>T a g e s o r d n u n g : <br>Öffentlich <br>1. Bekanntgabe der Beratungsniederschrift <br>2. Bekanntgabe von Beschlüssen aus nichtöffentlicher Sitzung <br>3. Ergänzungssatzung / Einbeziehungssatzung &bdquo;Dorndorf Mitte / Bachstraße&ldquo; &ndash; Satzungsbeschluss <br>4. Stellungnahme zu Baugesuchen<br>a. Bauort: Im Tal 31\, Gemarkung Wangen\, Flst. Nr. 229/27 Bauvorhaben: Neubau Betriebsgebäude mit Lagerhalle\, Büro und Betriebswohnung - Antrag auf Baugenehmigung - <br>b. Bauort: Vorderer Berg 18\, Illerrieden\, Flst. Nr. 596/5 Bauvorhaben: Nachgenehmigung Holzlege und Geräteschuppen - Antrag auf Baugenehmigung - <br>c. Bauort: Im Frauengarten 31\, Illerrieden\, Flst. Nr. 1003 Bauvorhaben: Nutzungsänderung &ndash; Gewerbliche Nutzung eines Wohnraumes im EG als Hundesalon (Hundefriseurin) - Antrag auf Baugenehmigung - <br>d. Bauort: Außenbereich\, Gemarkung Dorndorf\, Flst. Nr. 665 Bauvorhaben: Neubau einer landwirtschaftlichen Mehrzweckhalle - Antrag auf Baugenehmigung - <br>e. Bauort: Außenbereich\, Gemarkung Dorndorf\, Flst. Nr. 665 Bauvorhaben: Güllegrube\, geänderte Ausführung - Tektur - <br>5. Neufassung der Vereinbarung zwischen dem Gemeindeverwaltungsverband Dietenheim (GVV) und der Stadt Dietenheim &ndash; Ermächtigung der Verbandsräte der Gemeinde Illerrieden <br>6. Zustimmung zur Beteiligung der gemeinsamen Kommunalanstalt Komm.Pakt.Net an der OEW Breitband GmbH <br>7. Sonstige Bekanntgaben und Verschiedenes <br>Der Gemeinderat tagt im Anschluss außerdem nichtöffentlich. <br>Jens Kaiser\, Bürgermeister<br> <br>Anmeldung für Zuhörer erforderlich! Zuhörer bitten wir\, sich bis spätestens Mittwoch\, 16.06.2021\, 12 Uhr anzumelden &ndash; telefonisch unter: 0 73 06 / 96 96 0 oder per E-Mail an: info@illerrieden.de . <br>Personen\, die in Kontakt zu einer mit dem Coronavirus infizierten Person stehen oder standen\, wenn seit dem letzten Kontakt noch nicht 14 Tage vergangen sind und Personen\, die typische Symptome einer Infektion mit dem Coronavirus\, namentlich Fieber\, trockener Husten\, Störung des Geschmacks- oder Geruchssinns\, aufweisen\, kann leider kein Zutritt gewährt werden. <br>Maskenpflicht! Der Zutritt zum Sitzungsraum ist &ndash; auch für Zuhörer &ndash; nur mit einer medizinischen Maske oder einem Atemschutz\, welcher die Anforderungen der Standards FFP2 (DIN EN 149:2001)\, KN95\, N95 oder eines vergleichbaren Standards erfüllt\, möglich.
END:VEVENT
END:VCALENDAR
