BEGIN:VCALENDAR
PRODID:-//dvv-bw.de//dvv.Portalplattform//DE
VERSION:2.0
METHOD:PUBLISH
BEGIN:VEVENT
DTSTART:20210622T170000Z
DTEND:20210622T190000Z
DTSTAMP:20210622T170000Z
UID:523226372202-523226373800-1624312800000
SUMMARY:Generalversammlung BürgerEnergiegenossenschaft Illerrieden eG
LOCATION:Illertalhalle\, Foyer\, Gartenstraße 60\, 89186 Illerrieden
DESCRIPTION:Generalversammlung BürgerEnergiegenossenschaft Illerrieden eG
CLASS:PUBLIC
X-ALT-DESC;FMTTYPE=text/html:Generalversammlung BürgerEnergiegenossenschaft Illerrieden eG
END:VEVENT
END:VCALENDAR
