BEGIN:VCALENDAR
PRODID:-//dvv-bw.de//dvv.Portalplattform//DE
VERSION:2.0
METHOD:PUBLISH
BEGIN:VEVENT
DTSTART:20210603T220000Z
DTEND:20210603T220000Z
DTSTAMP:20210603T220000Z
UID:523224490656-523224490308-1622757600000
SUMMARY:Müllabfuhr
DESCRIPTION:Müllabfuhr
CLASS:PUBLIC
X-ALT-DESC;FMTTYPE=text/html:Müllabfuhr
END:VEVENT
END:VCALENDAR
