BEGIN:VCALENDAR
PRODID:-//dvv-bw.de//dvv.Portalplattform//DE
VERSION:2.0
METHOD:PUBLISH
BEGIN:VEVENT
DTSTART:20210616T220000Z
DTEND:20210616T220000Z
DTSTAMP:20210616T220000Z
UID:523224490659-523224490311-1623880800000
SUMMARY:Müllabfuhr
DESCRIPTION:Müllabfuhr
CLASS:PUBLIC
X-ALT-DESC;FMTTYPE=text/html:Müllabfuhr
END:VEVENT
END:VCALENDAR
