BEGIN:VCALENDAR
PRODID:-//dvv-bw.de//dvv.Portalplattform//DE
VERSION:2.0
METHOD:PUBLISH
BEGIN:VEVENT
DTSTART:20210612T220000Z
DTEND:20210612T220000Z
DTSTAMP:20210612T220000Z
UID:523224485422-523224485322-1623535200000
SUMMARY:Nachprimiz von Michael Sommer - Festgottesdienst
LOCATION:Heilig-Kreuz-Kirche\, Pfarrer-Braig-Straße 6\, 89186 Illerrieden
DESCRIPTION:Nachprimiz von Michael Sommer - Festgottesdienst
CLASS:PUBLIC
X-ALT-DESC;FMTTYPE=text/html:Nachprimiz von Michael Sommer - Festgottesdienst
END:VEVENT
END:VCALENDAR
