BEGIN:VCALENDAR
PRODID:-//dvv-bw.de//dvv.Portalplattform//DE
VERSION:2.0
METHOD:PUBLISH
BEGIN:VEVENT
DTSTART:20210611T220000Z
DTEND:20210612T220000Z
DTSTAMP:20210611T220000Z
RRULE;FREQ=DAILY;UNTIL=20210613T215959Z
UID:523224485421-523224485321-1623448800000
SUMMARY:VERSCHOBEN: Dorffest
DESCRIPTION:Verlegung Dorffest 2021. Wir hoffen auf bessere Zeiten und verlegen unser diesjähriges Dorffest deshalb auf das Wochenende vom 24. und 25. Juli. Ob und in welchem Umfang eine Veranstaltung dann durchgeführt werden kann\, bleibt abzuwarten. Wir sind jedoch zuversichtlich\, dass wir unser Dorffest in diesem Jahr in irgendeiner Form durchführen können. Über unsere weiteren Pläne werden wir rechtzeitig informieren. Musikverein Illerrieden e. V. - Die Vereinsleitung
CLASS:PUBLIC
X-ALT-DESC;FMTTYPE=text/html:Verlegung Dorffest 2021. Wir hoffen auf bessere Zeiten und verlegen unser diesjähriges Dorffest deshalb auf das Wochenende vom 24. und 25. Juli. Ob und in welchem Umfang eine Veranstaltung dann durchgeführt werden kann\, bleibt abzuwarten. Wir sind jedoch zuversichtlich\, dass wir unser Dorffest in diesem Jahr in irgendeiner Form durchführen können. Über unsere weiteren Pläne werden wir rechtzeitig informieren. Musikverein Illerrieden e. V. - Die Vereinsleitung
END:VEVENT
END:VCALENDAR
